BEGIN:VCALENDAR
VERSION:2.0
PRODID:-//A vue de truffe - ECPv5.16.1//NONSGML v1.0//EN
CALSCALE:GREGORIAN
METHOD:PUBLISH
X-WR-CALNAME:A vue de truffe
X-ORIGINAL-URL:https://www.avuedetruffe.com
X-WR-CALDESC:évènements pour A vue de truffe
BEGIN:VTIMEZONE
TZID:Europe/Paris
BEGIN:DAYLIGHT
TZOFFSETFROM:+0100
TZOFFSETTO:+0200
TZNAME:CEST
DTSTART:20190331T010000
END:DAYLIGHT
BEGIN:STANDARD
TZOFFSETFROM:+0200
TZOFFSETTO:+0100
TZNAME:CET
DTSTART:20191027T010000
END:STANDARD
END:VTIMEZONE
BEGIN:VEVENT
DTSTART;TZID=Europe/Paris:20190417T090000
DTEND;TZID=Europe/Paris:20190417T160000
DTSTAMP:20260426T045827
CREATED:20190404T090559Z
LAST-MODIFIED:20190404T090559Z
UID:920-1555491600-1555516800@www.avuedetruffe.com
SUMMARY:8ème festival Multisports ASPTT Caen
DESCRIPTION:Le 8ème festival Multisports de l’ASPTT de Caen se déroulera mercredi 17 avril 2019\, de 9h à 16h. \nL’objectif de cet événement est de sensibiliser le grand public en développant la mixité entre personnes handicapées et valides\, dans la cadre sportif. Cette année\, A Vue de Truffe aura le plaisir d’y participer\, pour présenter ses actions en faveur des personnes déficientes visuelles. Vous pourrez également y retrouver de nombreuses associations et organismes sensibles à la cause du handicap et souhaitant favoriser l’inclusion et le partage. \nLe festival se déroulera au complexe sportif Maurice Fouques\, 13 rue de la Hache à Caen (proche quartier Pierre Heuzé).
URL:https://www.avuedetruffe.com/evenement/8eme-festival-multisports-asptt-caen/
LOCATION:Complexe Sportif Maurice Fouques\, 13\, rue de la Hache\, Caen\, 14000\, France
ATTACH;FMTTYPE=image/jpeg:https://www.avuedetruffe.com/wp-content/uploads/2019/04/Affiche-8e-Festival-Multisports-ASPTT-Caen-2019-1.jpg
END:VEVENT
END:VCALENDAR