BEGIN:VCALENDAR
VERSION:2.0
PRODID:-//A vue de truffe - ECPv5.16.1//NONSGML v1.0//EN
CALSCALE:GREGORIAN
METHOD:PUBLISH
X-WR-CALNAME:A vue de truffe
X-ORIGINAL-URL:https://www.avuedetruffe.com
X-WR-CALDESC:évènements pour A vue de truffe
BEGIN:VTIMEZONE
TZID:Europe/Paris
BEGIN:DAYLIGHT
TZOFFSETFROM:+0100
TZOFFSETTO:+0200
TZNAME:CEST
DTSTART:20190331T010000
END:DAYLIGHT
BEGIN:STANDARD
TZOFFSETFROM:+0200
TZOFFSETTO:+0100
TZNAME:CET
DTSTART:20191027T010000
END:STANDARD
END:VTIMEZONE
BEGIN:VEVENT
DTSTART;TZID=Europe/Paris:20191122T100000
DTEND;TZID=Europe/Paris:20191215T190000
DTSTAMP:20260426T024306
CREATED:20191003T143552Z
LAST-MODIFIED:20191114T082614Z
UID:1129-1574416800-1576436400@www.avuedetruffe.com
SUMMARY:Action Emballage Cadeaux à Zodio
DESCRIPTION:Cette année encore\, nous serons présents au magasin Zodio (Mondevillage) pour effectuer notre traditionnelle action Emballage Cadeaux\, avec les bénévoles de notre association. \nL’action démarrera le vendredi 22 novembre pour s’achever le dimanche 22 décembre (dimanches inclus sauf 24 novembre car fermé). \nVenez nous rencontrer à cette occasion\, et n’hésitez pas à vous inscrire pour y participer en tant que bénévole en contactant l’association (avuedetruffe@orange.fr) !
URL:https://www.avuedetruffe.com/evenement/action-emballage-cadeaux-a-zodio/
LOCATION:Zodio\, Mondevillage\, Mondeville\, 14120\, France
ATTACH;FMTTYPE=image/jpeg:https://www.avuedetruffe.com/wp-content/uploads/2018/11/zodio-2018.jpg
END:VEVENT
END:VCALENDAR