BEGIN:VCALENDAR
VERSION:2.0
PRODID:-//A vue de truffe - ECPv5.16.1//NONSGML v1.0//EN
CALSCALE:GREGORIAN
METHOD:PUBLISH
X-WR-CALNAME:A vue de truffe
X-ORIGINAL-URL:https://www.avuedetruffe.com
X-WR-CALDESC:évènements pour A vue de truffe
BEGIN:VTIMEZONE
TZID:Europe/Paris
BEGIN:DAYLIGHT
TZOFFSETFROM:+0100
TZOFFSETTO:+0200
TZNAME:CEST
DTSTART:20190331T010000
END:DAYLIGHT
BEGIN:STANDARD
TZOFFSETFROM:+0200
TZOFFSETTO:+0100
TZNAME:CET
DTSTART:20191027T010000
END:STANDARD
END:VTIMEZONE
BEGIN:VEVENT
DTSTART;TZID=Europe/Paris:20191125T190000
DTEND;TZID=Europe/Paris:20191125T220000
DTSTAMP:20260425T232207
CREATED:20191030T144213Z
LAST-MODIFIED:20191030T144213Z
UID:1205-1574708400-1574719200@www.avuedetruffe.com
SUMMARY:Dîner des Chefs 4ème édition - Caen
DESCRIPTION:L’association Les Chefs Normands organise la 4ème édition de son Dîner des Chefs\, lundi 25 novembre 2019\, à l’Abbaye aux Hommes de Caen. \nPour cette 4ème édition\, les Chefs Normands ont choisi A Vue de Truffe comme bénéficiaire de ce dîner\, nous tenons donc à les remercier grandement pour leur générosité et pour leur intérêt envers les personnes déficientes visuelles. \nN’hésitez pas à suivre le lien et réserver votre place sur HelloAsso ! \nhttps://www.helloasso.com/associations/les-chefs-normands \n\nMerci à vous !
URL:https://www.avuedetruffe.com/evenement/diner-des-chefs-4eme-edition-caen/
LOCATION:Abbaye aux Hommes Caen\, Esplanade Jean-Marie Louvel\, Caen\, 14000\, France
ATTACH;FMTTYPE=image/png:https://www.avuedetruffe.com/wp-content/uploads/2019/10/téléchargement.png
END:VEVENT
END:VCALENDAR