BEGIN:VCALENDAR
VERSION:2.0
PRODID:-//A vue de truffe - ECPv5.16.1//NONSGML v1.0//EN
CALSCALE:GREGORIAN
METHOD:PUBLISH
X-WR-CALNAME:A vue de truffe
X-ORIGINAL-URL:https://www.avuedetruffe.com
X-WR-CALDESC:évènements pour A vue de truffe
BEGIN:VTIMEZONE
TZID:Europe/Paris
BEGIN:DAYLIGHT
TZOFFSETFROM:+0100
TZOFFSETTO:+0200
TZNAME:CEST
DTSTART:20240331T010000
END:DAYLIGHT
BEGIN:STANDARD
TZOFFSETFROM:+0200
TZOFFSETTO:+0100
TZNAME:CET
DTSTART:20241027T010000
END:STANDARD
END:VTIMEZONE
BEGIN:VEVENT
DTSTART;VALUE=DATE:20240925
DTEND;VALUE=DATE:20240926
DTSTAMP:20260424T124041
CREATED:20240802T103750Z
LAST-MODIFIED:20240802T103750Z
UID:3007-1727222400-1727308799@www.avuedetruffe.com
SUMMARY:Journée Thématique autour de la Déficience Visuelle - RSVA
DESCRIPTION:
URL:https://www.avuedetruffe.com/evenement/journee-thematique-autour-de-la-deficience-visuelle-rsva/
LOCATION:La Fonderie\, Hérouville Saint-Clair\, 14200\, France
ATTACH;FMTTYPE=image/jpeg:https://www.avuedetruffe.com/wp-content/uploads/2024/08/rsva-journee-deficience-visuelle-25-sept.jpg
END:VEVENT
END:VCALENDAR