BEGIN:VCALENDAR
VERSION:2.0
PRODID:-//A vue de truffe - ECPv5.16.1//NONSGML v1.0//EN
CALSCALE:GREGORIAN
METHOD:PUBLISH
X-WR-CALNAME:A vue de truffe
X-ORIGINAL-URL:https://www.avuedetruffe.com
X-WR-CALDESC:évènements pour A vue de truffe
BEGIN:VTIMEZONE
TZID:Europe/Paris
BEGIN:DAYLIGHT
TZOFFSETFROM:+0100
TZOFFSETTO:+0200
TZNAME:CEST
DTSTART:20190331T010000
END:DAYLIGHT
BEGIN:STANDARD
TZOFFSETFROM:+0200
TZOFFSETTO:+0100
TZNAME:CET
DTSTART:20191027T010000
END:STANDARD
END:VTIMEZONE
BEGIN:VEVENT
DTSTART;TZID=Europe/Paris:20191116T193000
DTEND;TZID=Europe/Paris:20191116T220000
DTSTAMP:20260426T024306
CREATED:20191003T142409Z
LAST-MODIFIED:20191003T142409Z
UID:1127-1573932600-1573941600@www.avuedetruffe.com
SUMMARY:Repas dans le Noir - 16 novembre 2019
DESCRIPTION:En partenariat avec la Ferme Culturelle du Bessin et l’association L’AVEC\, A Vue de Truffe organise un nouveau repas dans le noir\, le samedi 16 novembre 2019 à la Ferme Culturelle du Bessin. \nPour cette soirée\, l’artiste Elsa Rignault composera\, avec des personnes déficientes visuelles de l’association Clin d’œil et de jeunes Creullois\, un menu créatif pour vous régaler et vous surprendre. \nCet événement vous donnera l’occasion d’expérimenter toutes les sensations de la dégustation d’un repas dans l’obscurité complète\, et de partager un moment convivial dans une ambiance originale. \nN’hésitez pas à réserver votre place en ligne sur HelloAsso : https://www.helloasso.com/associations/ferme-culturelle-du-bessin/evenements/sam-16-11-diner-dans-le-noir-1 \nTARIFS : \nMenu sans boisson : 32 € / 30 € \nMenu avec boisson : supplément de 5 € \nSi vous optez pour le repas avec boisson\, les chefs choisiront pour vous les boissons afin qu’elles accompagnent au mieux les mets servis. \n· Menu unique. En cas d’impératif alimentaire\, merci de nous prévenir lors de votre réservation. \n· La soirée se déroulant dans l’obscurité totale\, il est important que tous les participants en soient informés.
URL:https://www.avuedetruffe.com/evenement/repas-dans-le-noir-16-novembre-2019/
LOCATION:Ferme Culturelle du Bessin\, 39\, chemin de Varembert\, Hameau de Saint-Gabriel-Brécy\, Esquay sur Seulles\, 14400\, France
ATTACH;FMTTYPE=image/jpeg:https://www.avuedetruffe.com/wp-content/uploads/2018/03/visuel-dinernoir.jpg
END:VEVENT
END:VCALENDAR