BEGIN:VCALENDAR
VERSION:2.0
PRODID:-//A vue de truffe - ECPv5.16.1//NONSGML v1.0//EN
CALSCALE:GREGORIAN
METHOD:PUBLISH
X-WR-CALNAME:A vue de truffe
X-ORIGINAL-URL:https://www.avuedetruffe.com
X-WR-CALDESC:évènements pour A vue de truffe
BEGIN:VTIMEZONE
TZID:Europe/Paris
BEGIN:DAYLIGHT
TZOFFSETFROM:+0100
TZOFFSETTO:+0200
TZNAME:CEST
DTSTART:20200329T010000
END:DAYLIGHT
BEGIN:STANDARD
TZOFFSETFROM:+0200
TZOFFSETTO:+0100
TZNAME:CET
DTSTART:20201025T010000
END:STANDARD
END:VTIMEZONE
BEGIN:VEVENT
DTSTART;VALUE=DATE:20200229
DTEND;VALUE=DATE:20200302
DTSTAMP:20260425T170805
CREATED:20200211T101621Z
LAST-MODIFIED:20200211T101621Z
UID:1296-1582934400-1583107199@www.avuedetruffe.com
SUMMARY:Salon Gourmand - Douvres-la-Délivrande
DESCRIPTION:L’édition 2020 du salon gourmand de Douvres la Délivrande se déroulera le samedi 29 février et dimanche 1er mars. \nCette année encore\, nous aurons le plaisir d’être présents au salon pour présenter notre association et nos actions en faveur des personnes déficientes visuelles. \nNous tenons à remercier le Lion’s Club Caen Léopards pour leur soutien continu depuis de nombreuses années\, et vous donnons donc rendez-vous à la salle Léo Ferré\, 12 voie des alliés à Douvres la Délivrande. \nVenez nombreux !
URL:https://www.avuedetruffe.com/evenement/salon-gourmand-douvres-la-delivrande-3/
LOCATION:Salle Léo Férré\, 12\, Voie des Alliés\, Douvres-la-Délivrande\, Normandie\, 14440\, France
ATTACH;FMTTYPE=image/jpeg:https://www.avuedetruffe.com/wp-content/uploads/2020/02/photo_2019-02-19_17-22-21.jpg
END:VEVENT
END:VCALENDAR