BEGIN:VCALENDAR
VERSION:2.0
PRODID:-//A vue de truffe - ECPv5.16.1//NONSGML v1.0//EN
CALSCALE:GREGORIAN
METHOD:PUBLISH
X-WR-CALNAME:A vue de truffe
X-ORIGINAL-URL:https://www.avuedetruffe.com
X-WR-CALDESC:évènements pour A vue de truffe
BEGIN:VTIMEZONE
TZID:Europe/Paris
BEGIN:DAYLIGHT
TZOFFSETFROM:+0100
TZOFFSETTO:+0200
TZNAME:CEST
DTSTART:20190331T010000
END:DAYLIGHT
BEGIN:STANDARD
TZOFFSETFROM:+0200
TZOFFSETTO:+0100
TZNAME:CET
DTSTART:20191027T010000
END:STANDARD
END:VTIMEZONE
BEGIN:VEVENT
DTSTART;TZID=Europe/Paris:20191205T193000
DTEND;TZID=Europe/Paris:20191205T220000
DTSTAMP:20260425T215759
CREATED:20191118T115410Z
LAST-MODIFIED:20191118T115410Z
UID:1232-1575574200-1575583200@www.avuedetruffe.com
SUMMARY:Soirée musicale au profit de l'école
DESCRIPTION:L’association « Des Racines et Des Vagues » organise une nouvelle soirée musicale au profit de l’école de chiens-guides. \nNous vous donnons donc rendez-vous jeudi 5 décembre à partir de 19h45\, à la salle Polyvalente de Bénouville\, pour une soirée musicale spéciale Noël ! \nMerci à Mme Denizot\, famille d’accueil de l’école \, ainsi que son association et tous les participants de la soirée !
URL:https://www.avuedetruffe.com/evenement/soiree-musicale-au-profit-de-lecole/
LOCATION:Salle Polyvalente Bénouville\, Chemin des Campagnes\, Bénouville\, 14970\, France
ATTACH;FMTTYPE=image/jpeg:https://www.avuedetruffe.com/wp-content/uploads/2019/11/Soirée-5-décembre-2019-salle-polyvalente-Benouville-page-001.jpg
END:VEVENT
END:VCALENDAR