BEGIN:VCALENDAR
VERSION:2.0
PRODID:-//A vue de truffe - ECPv5.16.1//NONSGML v1.0//EN
CALSCALE:GREGORIAN
METHOD:PUBLISH
X-WR-CALNAME:A vue de truffe
X-ORIGINAL-URL:https://www.avuedetruffe.com
X-WR-CALDESC:évènements pour A vue de truffe
BEGIN:VTIMEZONE
TZID:Europe/Paris
BEGIN:DAYLIGHT
TZOFFSETFROM:+0100
TZOFFSETTO:+0200
TZNAME:CEST
DTSTART:20190331T010000
END:DAYLIGHT
BEGIN:STANDARD
TZOFFSETFROM:+0200
TZOFFSETTO:+0100
TZNAME:CET
DTSTART:20191027T010000
END:STANDARD
END:VTIMEZONE
BEGIN:VEVENT
DTSTART;TZID=Europe/Paris:20190424T193000
DTEND;TZID=Europe/Paris:20190424T223000
DTSTAMP:20260426T032113
CREATED:20190408T092537Z
LAST-MODIFIED:20190408T092537Z
UID:930-1556134200-1556145000@www.avuedetruffe.com
SUMMARY:Soirée musicale Merville-Franceville - 24 avril 2019
DESCRIPTION:Une soirée musicale sera organisée par l’association « Les Racines et les Vagues » au profit de notre école de chiens-guides ! \nCet événement se déroulera mercredi 24 avril 2019 à partir de 19h30\, au château de Merville-Franceville\, dans une ambiance folk\, country et blues. L’entrée est au prix de 5 euros (une boisson comprise). \nPour visiter la page Facebook de l’association « Les Racines et les Vagues »\, vous pouvez cliquer sur le lien suivant : https://www.facebook.com/Les-Racines-et-les-Vagues-527116841126030/ \nNous tenons à remercier Mme Jane Denizot\, co-organisatrice de cette soirée et famille d’accueil de notre école !
URL:https://www.avuedetruffe.com/evenement/soiree-musicale-merville-franceville-24-avril-2019/
LOCATION:Château de Merville-Franceville\, 32\, avenue Alexandre de Lavergne\, Merville-Franceville-Plage\, 14810\, France
ATTACH;FMTTYPE=image/jpeg:https://www.avuedetruffe.com/wp-content/uploads/2019/04/Flyer-assos-Soiree-racines-et-vagues-24-avril-2019-avec-photo-chateau-1.jpg
END:VEVENT
END:VCALENDAR